Workbook

Sheet Unadjusted Tuition
D1: Academic Year Starting
D2: 2014 | E2: 2015 | F2: 2016 | G2: 2017 | H2: 2018 | I2: 2019
A3: Community Colleges | C3: Blue Mountain | D3: 90 | E3: 94 | F3: 96 | G3: 103 | H3: 108 | I3: 108
C4: Central | D4: 87 | E4: 91 | F4: 93 | G4: 95 | H4: 99 | I4: 106
C5: Chemeketa | D5: 80 | E5: 80 | F5: 80 | G5: 85 | H5: 87 | I5: 91
C6: Clackamas | D6: 84 | E6: 87 | F6: 90 | G6: 93 | H6: 100 | I6: 103
C7: Clatsop | D7: 99 | E7: 99 | F7: 99 | G7: 99 | H7: 102 | I7: 105
C8: Columbia Gorge | D8: 89 | E8: 91 | F8: 97 | G8: 99 | H8: 102 | I8: 107
C9: Klamath | D9: 89.5 | E9: 89.5 | F9: 89.5 | G9: 96.5 | H9: 103 | I9: 108
C10: Lane | D10: 98 | E10: 99.5 | F10: 102.5 | G10: 109.5 | H10: 113.5 | I10: 118
C11: Linn-Benton | D11: 93.8 | E11: 93.8 | F11: 99.43 | G11: 104.4 | H11: 109.1 | I11: 113.46
C12: Mt. Hood | D12: 92 | E12: 94 | F12: 96 | G12: 100 | H12: 107 | I12: 115
C13: Oregon Coast | D13: 99 | E13: 99 | F13: 99 | G13: 99 | H13: 105 | I13: 115
C14: Portland | D14: 92 | E14: 96 | F14: 97 | G14: 104 | H14: 111 | I14: 116
C15: Rogue | D15: 91 | E15: 95 | F15: 99 | G15: 104 | H15: 107 | I15: 112
... C19: Umpqua | D19: 85 | E19: 87 | F19: 88 | G19: 93 | H19: 97 | I19: 101

Sheet Adjusted Tuition
D1: Academic Year Starting
D2: 2014 | E2: 2015 | F2: 2016 | G2: 2017 | H2: 2018 | I2: 2019 | K2: adj
A3: Community Colleges | C3: Blue Mountain | D3: ='Unadjusted Tuition'!D3*'Adjusted Tuition'!$K$3 -> 128.57143 | E3: ='Unadjusted Tuition'!E3*'Adjusted Tuition'!$K$3 -> 134.28571 | F3: ='Unadjusted Tuition'!F3*'Adjusted Tuition'!$K$3 -> 137.14286 | G3: ='Unadjusted Tuition'!G3*'Adjusted Tuition'!$K$3 -> 147.14286 | H3: ='Unadjusted Tuition'!H3*'Adjusted Tuition'!$K$3 -> 154.28571 | I3: ='Unadjusted Tuition'!I3*'Adjusted Tuition'!$K$3 -> 154.28571 | K3: =1/0.7 -> 1.4285714
C4: Central | D4: ='Unadjusted Tuition'!D4*'Adjusted Tuition'!$K$4 -> 87 | E4: ='Unadjusted Tuition'!E4*'Adjusted Tuition'!$K$4 -> 91 | F4: ='Unadjusted Tuition'!F4*'Adjusted Tuition'!$K$4 -> 93 | G4: ='Unadjusted Tuition'!G4*'Adjusted Tuition'!$K$4 -> 95 | H4: ='Unadjusted Tuition'!H4*'Adjusted Tuition'!$K$4 -> 99 | I4: ='Unadjusted Tuition'!I4*'Adjusted Tuition'!$K$4 -> 106 | K4: 1
C5: Chemeketa | D5: ='Unadjusted Tuition'!D5*'Adjusted Tuition'!$K$5 -> 97.560976 | E5: ='Unadjusted Tuition'!E5*'Adjusted Tuition'!$K$5 -> 97.560976 | F5: ='Unadjusted Tuition'!F5*'Adjusted Tuition'!$K$5 -> 97.560976 | G5: ='Unadjusted Tuition'!G5*'Adjusted Tuition'!$K$5 -> 103.65854 | H5: ='Unadjusted Tuition'!H5*'Adjusted Tuition'!$K$5 -> 106.09756 | I5: ='Unadjusted Tuition'!I5*'Adjusted Tuition'!$K$5 -> 110.97561 | K5: 1.2195122
C6: Clackamas | D6: ='Unadjusted Tuition'!D6*'Adjusted Tuition'!$K$6 -> 79.8 | E6: ='Unadjusted Tuition'!E6*'Adjusted Tuition'!$K$6 -> 82.65 | F6: ='Unadjusted Tuition'!F6*'Adjusted Tuition'!$K$6 -> 85.5 | G6: ='Unadjusted Tuition'!G6*'Adjusted Tuition'!$K$6 -> 88.35 | H6: ='Unadjusted Tuition'!H6*'Adjusted Tuition'!$K$6 -> 95 | I6: ='Unadjusted Tuition'!I6*'Adjusted Tuition'!$K$6 -> 97.85 | K6: 0.95
C7: Clatsop | D7: ='Unadjusted Tuition'!D7*'Adjusted Tuition'!$K$7 -> 126.92308 | E7: ='Unadjusted Tuition'!E7*'Adjusted Tuition'!$K$7 -> 126.92308 | F7: ='Unadjusted Tuition'!F7*'Adjusted Tuition'!$K$7 -> 126.92308 | G7: ='Unadjusted Tuition'!G7*'Adjusted Tuition'!$K$7 -> 126.92308 | H7: ='Unadjusted Tuition'!H7*'Adjusted Tuition'!$K$7 -> 130.76923 | I7: ='Unadjusted Tuition'!I7*'Adjusted Tuition'!$K$7 -> 134.61538 | K7: 1.2820513
C8: Columbia Gorge | D8: ='Unadjusted Tuition'!D8*'Adjusted Tuition'!$K$8 -> 117.10526 | E8: ='Unadjusted Tuition'!E8*'Adjusted Tuition'!$K$8 -> 119.73684 | F8: ='Unadjusted Tuition'!F8*'Adjusted Tuition'!$K$8 -> 127.63158 | G8: ='Unadjusted Tuition'!G8*'Adjusted Tuition'!$K$8 -> 130.26316 | H8: ='Unadjusted Tuition'!H8*'Adjusted Tuition'!$K$8 -> 134.21053 | I8: ='Unadjusted Tuition'!I8*'Adjusted Tuition'!$K$8 -> 140.78947 | K8: 1.3157895
C9: Klamath | D9: ='Unadjusted Tuition'!D9*'Adjusted Tuition'!$K$9 -> 133.58209 | E9: ='Unadjusted Tuition'!E9*'Adjusted Tuition'!$K$9 -> 133.58209 | F9: ='Unadjusted Tuition'!F9*'Adjusted Tuition'!$K$9 -> 133.58209 | G9: ='Unadjusted Tuition'!G9*'Adjusted Tuition'!$K$9 -> 144.02985 | H9: ='Unadjusted Tuition'!H9*'Adjusted Tuition'!$K$9 -> 153.73134 | I9: ='Unadjusted Tuition'!I9*'Adjusted Tuition'!$K$9 -> 161.19403 | K9: 1.4925373
C10: Lane | D10: ='Unadjusted Tuition'!D10*'Adjusted Tuition'!$K$10 -> 118.07229 | E10: ='Unadjusted Tuition'!E10*'Adjusted Tuition'!$K$10 -> 119.87952 | F10: ='Unadjusted Tuition'!F10*'Adjusted Tuition'!$K$10 -> 123.49398 | G10: ='Unadjusted Tuition'!G10*'Adjusted Tuition'!$K$10 -> 131.92771 | H10: ='Unadjusted Tuition'!H10*'Adjusted Tuition'!$K$10 -> 136.74699 | I10: ='Unadjusted Tuition'!I10*'Adjusted Tuition'!$K$10 -> 142.16867 | K10: 1.2048193
C11: Linn-Benton | D11: ='Unadjusted Tuition'!D11*'Adjusted Tuition'!$K$11 -> 117.25 | E11: ='Unadjusted Tuition'!E11*'Adjusted Tuition'!$K$11 -> 117.25 | F11: ='Unadjusted Tuition'!F11*'Adjusted Tuition'!$K$11 -> 124.2875 | G11: ='Unadjusted Tuition'!G11*'Adjusted Tuition'!$K$11 -> 130.5 | H11: ='Unadjusted Tuition'!H11*'Adjusted Tuition'!$K$11 -> 136.375 | I11: ='Unadjusted Tuition'!I11*'Adjusted Tuition'!$K$11 -> 141.825 | K11: 1.25
C12: Mt. Hood | D12: ='Unadjusted Tuition'!D12*'Adjusted Tuition'!$K$12 -> 97.87234 | E12: ='Unadjusted Tuition'!E12*'Adjusted Tuition'!$K$12 -> 100 | F12: ='Unadjusted Tuition'!F12*'Adjusted Tuition'!$K$12 -> 102.12766 | G12: ='Unadjusted Tuition'!G12*'Adjusted Tuition'!$K$12 -> 106.38298 | H12: ='Unadjusted Tuition'!H12*'Adjusted Tuition'!$K$12 -> 113.82979 | I12: ='Unadjusted Tuition'!I12*'Adjusted Tuition'!$K$12 -> 122.34043 | K12: 1.0638298
C13: Oregon Coast | D13: ='Unadjusted Tuition'!D13*'Adjusted Tuition'!$K$13 -> 123.75 | E13: ='Unadjusted Tuition'!E13*'Adjusted Tuition'!$K$13 -> 123.75 | F13: ='Unadjusted Tuition'!F13*'Adjusted Tuition'!$K$13 -> 123.75 | G13: ='Unadjusted Tuition'!G13*'Adjusted Tuition'!$K$13 -> 123.75 | H13: ='Unadjusted Tuition'!H13*'Adjusted Tuition'!$K$13 -> 131.25 | I13: ='Unadjusted Tuition'!I13*'Adjusted Tuition'!$K$13 -> 143.75 | K13: 1.25
C14: Portland | D14: ='Unadjusted Tuition'!D14*'Adjusted Tuition'!$K$14 -> 86.48 | E14: ='Unadjusted Tuition'!E14*'Adjusted Tuition'!$K$14 -> 90.24 | F14: ='Unadjusted Tuition'!F14*'Adjusted Tuition'!$K$14 -> 91.18 | G14: ='Unadjusted Tuition'!G14*'Adjusted Tuition'!$K$14 -> 97.76 | H14: ='Unadjusted Tuition'!H14*'Adjusted Tuition'!$K$14 -> 104.34 | I14: ='Unadjusted Tuition'!I14*'Adjusted Tuition'!$K$14 -> 109.04 | K14: 0.94
C15: Rogue | D15: ='Unadjusted Tuition'!D15*'Adjusted Tuition'!$K$15 -> 115.18987 | E15: ='Unadjusted Tuition'!E15*'Adjusted Tuition'!$K$15 -> 120.25316 | F15: ='Unadjusted Tuition'!F15*'Adjusted Tuition'!$K$15 -> 125.31646 | G15: ='Unadjusted Tuition'!G15*'Adjusted Tuition'!$K$15 -> 131.64557 | H15: ='Unadjusted Tuition'!H15*'Adjusted Tuition'!$K$15 -> 135.44304 | I15: ='Unadjusted Tuition'!I15*'Adjusted Tuition'!$K$15 -> 141.77215 | K15: 1.2658228
C16: Southwestern | D16: ='Unadjusted Tuition'!D16*'Adjusted Tuition'!$K$16 -> 126.47059 | E16: ='Unadjusted Tuition'!E16*'Adjusted Tuition'!$K$16 -> 130.88235 | F16: ='Unadjusted Tuition'!F16*'Adjusted Tuition'!$K$16 -> 133.82353 | G16: ='Unadjusted Tuition'!G16*'Adjusted Tuition'!$K$16 -> 135.29412 | H16: ='Unadjusted Tuition'!H16*'Adjusted Tuition'!$K$16 -> 138.23529 | I16: ='Unadjusted Tuition'!I16*'Adjusted Tuition'!$K$16 -> 141.17647 | K16: 1.4705882
C17: Tillamook Bay | D17: ='Unadjusted Tuition'!D17*'Adjusted Tuition'!$K$17 -> 116.25 | E17: ='Unadjusted Tuition'!E17*'Adjusted Tuition'!$K$17 -> 117.5 | F17: ='Unadjusted Tuition'!F17*'Adjusted Tuition'!$K$17 -> 118.75 | G17: ='Unadjusted Tuition'!G17*'Adjusted Tuition'!$K$17 -> 120 | H17: ='Unadjusted Tuition'!H17*'Adjusted Tuition'!$K$17 -> 121.25 | I17: ='Unadjusted Tuition'!I17*'Adjusted Tuition'!$K$17 -> 125 | K17: 1.25
C18: Treasure Valley | D18: ='Unadjusted Tuition'!D18*'Adjusted Tuition'!$K$18 -> 140.29851 | E18: ='Unadjusted Tuition'!E18*'Adjusted Tuition'!$K$18 -> 143.28358 | F18: ='Unadjusted Tuition'!F18*'Adjusted Tuition'!$K$18 -> 146.26866 | G18: ='Unadjusted Tuition'!G18*'Adjusted Tuition'!$K$18 -> 147.76119 | H18: ='Unadjusted Tuition'!H18*'Adjusted Tuition'!$K$18 -> 147.76119 | I18: ='Unadjusted Tuition'!I18*'Adjusted Tuition'!$K$18 -> 152.23881 | K18: 1.4925373
C19: Umpqua | D19: ='Unadjusted Tuition'!D19*'Adjusted Tuition'!$K$19 -> 116.43836 | E19: ='Unadjusted Tuition'!E19*'Adjusted Tuition'!$K$19 -> 119.17808 | F19: ='Unadjusted Tuition'!F19*'Adjusted Tuition'!$K$19 -> 120.54795 | G19: ='Unadjusted Tuition'!G19*'Adjusted Tuition'!$K$19 -> 127.39726 | H19: ='Unadjusted Tuition'!H19*'Adjusted Tuition'!$K$19 -> 132.87671 | I19: ='Unadjusted Tuition'!I19*'Adjusted Tuition'!$K$19 -> 138.35616 | K19: 1.369863
